
BEGIN:VCALENDAR
VERSION:2.0
PRODID:-//Toulouse TAC Arc - ECPv6.15.16//NONSGML v1.0//EN
CALSCALE:GREGORIAN
METHOD:PUBLISH
X-WR-CALNAME:Toulouse TAC Arc
X-ORIGINAL-URL:https://tacarc.org/info
X-WR-CALDESC:Évènements pour Toulouse TAC Arc
REFRESH-INTERVAL;VALUE=DURATION:PT1H
X-Robots-Tag:noindex
X-PUBLISHED-TTL:PT1H
BEGIN:VTIMEZONE
TZID:Europe/Paris
BEGIN:DAYLIGHT
TZOFFSETFROM:+0100
TZOFFSETTO:+0200
TZNAME:CEST
DTSTART:20250330T010000
END:DAYLIGHT
BEGIN:STANDARD
TZOFFSETFROM:+0200
TZOFFSETTO:+0100
TZNAME:CET
DTSTART:20251026T010000
END:STANDARD
BEGIN:DAYLIGHT
TZOFFSETFROM:+0100
TZOFFSETTO:+0200
TZNAME:CEST
DTSTART:20260329T010000
END:DAYLIGHT
BEGIN:STANDARD
TZOFFSETFROM:+0200
TZOFFSETTO:+0100
TZNAME:CET
DTSTART:20261025T010000
END:STANDARD
BEGIN:DAYLIGHT
TZOFFSETFROM:+0100
TZOFFSETTO:+0200
TZNAME:CEST
DTSTART:20270328T010000
END:DAYLIGHT
BEGIN:STANDARD
TZOFFSETFROM:+0200
TZOFFSETTO:+0100
TZNAME:CET
DTSTART:20271031T010000
END:STANDARD
END:VTIMEZONE
BEGIN:VEVENT
DTSTART;VALUE=DATE:20260524
DTEND;VALUE=DATE:20260525
DTSTAMP:20260424T232205
CREATED:20260214T173713Z
LAST-MODIFIED:20260214T173713Z
UID:3427-1779580800-1779667199@tacarc.org
SUMMARY:concours extérieur TAE Toulouse TAC 24 mai 2026
DESCRIPTION:Mandat\nLa zone des spectateurs est sous abri. La distance maximale de tir extérieur sélectif est de 60m. \n \nFormulaire d'inscription au concours TAE\nToulouse TAC à Pech-David dimanche 24 mai 2026 \n\n\n\n\nInscription TAC TAE Pech-David 2026\n\n\n\n\n\n\n\n\n    Club\n        *\n    \n    \n    indiquez le club des archers  à inscrire\n    \n\n\n    Email\n        *\n    \n    \n    \n    \n\n\n1er Archer  \n\n\n    1 Nom Prénom\, licence\n        *\n    \n    \n    archer1 nom + prénom\, licence\n    \n\n\n    1 Arme\n        *\n    \n    		\n		InvalideCLassiqueCO pouliesBB arc nu	\n	\n    \n    \n\n\n    1 Catégorie\n        \n    \n    		\n		 U11 PoussinU13 BenjaminU15 MinimeU18 CadetU21 JuniorS1 Senior 1S2 Senior 2S3 Senior 3Découverte 30m 80cm	\n	\n    \n    \n\n\n    1 Sexe\n        *\n    \n    		\n		 FemmeHomme	\n	\n    \n    \n\n\n    1 Départ\n        *\n    \n    		\n		 1i matin TAE International <=60m1n matin TAE National2i après-midi TAE International <=60m2n après-midi TAE National	\n	\n    \n    \n\n\n2ème Archer ou 2ème départ \n\n\n    2 Nom Prénom\, licence\n        \n    \n    \n    archer2 nom + prénom\, licence\n    \n\n\n    2 Arme\n        \n    \n    		\n		 CLassiqueCO pouliesBB arc nu	\n	\n    \n    \n\n\n    2 Catégorie\n        \n    \n    		\n		 U11 PoussinU13 BenjaminU15 MinimeU18 CadetU21 JuniorS1 Senior 1S2 Senior 2S3 Senior 3Découverte 30m 80cm	\n	\n    \n    \n\n\n    2 Sexe\n        \n    \n    		\n		 FemmeHomme	\n	\n    \n    \n\n\n    2 Départ\n        \n    \n    		\n		 1i matin TAE International <=60m1n matin TAE National2i après-midi TAE International <=60m2n après-midi TAE National	\n	\n    \n    \n\n\n    Message\n        \n    \n    \n    \n    \n\n\n    reCAPTCHA\n        \n    \n    \n    \n    \n\n\n	\n\nEnvoyer\n\n\n\n	\n			\n			\n				Si vous êtes un humain\, ne remplissez pas ce champ.			\n			\n		\n		\n\n\n\n\n\n\nVous allez recevoir un courriel de réponse automatique après votre inscription sur le formulaire. Si ce n'est pas le cas\, confirmez votre souhait d'inscription en nous contactant sur contact@tacarc.org \n \n \n \n\n \n\n Chronotirs et marquage électronique TRAPTA/IANSEO
URL:https://tacarc.org/info/event/concours-tae-mai-2026/
LOCATION:Pech-David\, chemin des côtes de Pech-David\, TOULOUSE\, 31400\, France
ORGANIZER;CN="Toulouse TAC":MAILTO:contact@tacarc.org
END:VEVENT
BEGIN:VEVENT
DTSTART;VALUE=DATE:20260530
DTEND;VALUE=DATE:20260531
DTSTAMP:20260424T232205
CREATED:20260214T173226Z
LAST-MODIFIED:20260214T173249Z
UID:3425-1780099200-1780185599@tacarc.org
SUMMARY:Rencontre jeunes 2x15m Toulouse TAC à Pech-David  30 mai 2026
DESCRIPTION:Mandat\n\n \nFormulaire d'inscription au concours\nrencontre jeunes du Toulouse TAC à Pech-David le samedi 30 mai 2026 \n\n\n\n\nInscription TAC 2x15m Jeunes 2026\n\n\n\n\n\n\n\n\n    Club\n        *\n    \n    \n    indiquez le club des archers  à inscrire\n    \n\n\n    Email\n        *\n    \n    \n    \n    \n\n\n1er Archer  \n\n\n    1 Nom Prénom\, licence\n        *\n    \n    \n    archer1 nom + prénom\, licence\n    \n\n\n    1 Catégorie\n        *\n    \n    		\n		InvalidePoussin 122cm 10mNiveau 3 122cm 15mNiveau 2 80cmNiveau 1 60cmAS 40cm	\n	\n    \n    \n\n2ème Archer\n\n    2 Nom Prénom\, licence\n        \n    \n    \n    archer2 nom + prénom\, licence\n    \n\n\n    2 Catégorie\n        \n    \n    		\n		 Poussin 122cm 10mNiveau 3 122cm 15mNiveau 2 80cmNiveau 1 60cmAS 40cm	\n	\n    \n    \n\n\n3ème Archer - pour une équipe\, regrouper les 3 ou 4 archers sur un seul formulaire \n\n\n    3 Nom Prénom\, licence\n        \n    \n    \n    archer3 nom + prénom\, licence\n    \n\n\n    3 Catégorie\n        \n    \n    		\n		 Poussin 122cm 10mNiveau 3 122cm 15mNiveau 2 80cmNiveau 1 60cmAS 40cm	\n	\n    \n    \n\n\n    4 Nom Prénom\, licence\n        \n    \n    \n    archer4 nom + prénom\, licence\n    \n\n\n    4 Catégorie\n        \n    \n    		\n		 Poussin 122cm 10mNiveau 3 122cm 15mNiveau 2 80cmNiveau 1 60cmAS 40cm	\n	\n    \n    \n\n\n    Message\n        \n    \n    \n    \n    \n\n\n    reCAPTCHA\n        \n    \n    \n    \n    \n\n\n	\n\nEnvoyer\n\n\n\n	\n			\n			\n				Si vous êtes un humain\, ne remplissez pas ce champ.			\n			\n		\n		\n\n\n\n\n\n\nVous allez recevoir un courriel de réponse automatique après votre inscription sur le formulaire. Si ce n'est pas le cas\, confirmez votre souhait d'inscription en nous contactant sur contact@tacarc.org \n  \n \n\n \n\nChronotirs et marquage électronique
URL:https://tacarc.org/info/event/rencontre-jeunes-mai-2026/
LOCATION:Pech-David\, chemin des côtes de Pech-David\, TOULOUSE\, 31400\, France
CATEGORIES:concours,rencontre jeunes
ORGANIZER;CN="Toulouse TAC":MAILTO:contact@tacarc.org
END:VEVENT
END:VCALENDAR