
BEGIN:VCALENDAR
VERSION:2.0
PRODID:-//Toulouse TAC Arc - ECPv6.15.16//NONSGML v1.0//EN
CALSCALE:GREGORIAN
METHOD:PUBLISH
X-ORIGINAL-URL:https://tacarc.org/info
X-WR-CALDESC:Évènements pour Toulouse TAC Arc
REFRESH-INTERVAL;VALUE=DURATION:PT1H
X-Robots-Tag:noindex
X-PUBLISHED-TTL:PT1H
BEGIN:VTIMEZONE
TZID:Europe/Paris
BEGIN:DAYLIGHT
TZOFFSETFROM:+0100
TZOFFSETTO:+0200
TZNAME:CEST
DTSTART:20220327T010000
END:DAYLIGHT
BEGIN:STANDARD
TZOFFSETFROM:+0200
TZOFFSETTO:+0100
TZNAME:CET
DTSTART:20221030T010000
END:STANDARD
BEGIN:DAYLIGHT
TZOFFSETFROM:+0100
TZOFFSETTO:+0200
TZNAME:CEST
DTSTART:20230326T010000
END:DAYLIGHT
BEGIN:STANDARD
TZOFFSETFROM:+0200
TZOFFSETTO:+0100
TZNAME:CET
DTSTART:20231029T010000
END:STANDARD
BEGIN:DAYLIGHT
TZOFFSETFROM:+0100
TZOFFSETTO:+0200
TZNAME:CEST
DTSTART:20240331T010000
END:DAYLIGHT
BEGIN:STANDARD
TZOFFSETFROM:+0200
TZOFFSETTO:+0100
TZNAME:CET
DTSTART:20241027T010000
END:STANDARD
END:VTIMEZONE
BEGIN:VEVENT
DTSTART;TZID=Europe/Paris:20230919T183000
DTEND;TZID=Europe/Paris:20231007T210000
DTSTAMP:20260421T134958
CREATED:20230914T072642Z
LAST-MODIFIED:20230914T072930Z
UID:3107-1695148200-1696712400@tacarc.org
SUMMARY:Accueil initiation septembre 2023
DESCRIPTION:Le club Toulouse TAC accueille les adhérents dans le gymnase de Gironis à partir du mardi 19 septembre 2023.\nLes groupes d'initiation pour la rentrée d'automne 2023-24 sont complets. Quelques inscriptions en découverte seront possibles au printemps 2024.\nLes archers confirmés peuvent adhérer et s'entraîner sur terrains extérieurs tout au long de l'année avec leur matériel. \n﻿ \nPour participer aux séances de découverte\, pré-inscrivez vous sur le formulaire en ligne.\nPour les compétiteurs et archers confirmés\, la permanence d'accueil sera à votre disposition de préférence le mardi après 20h00.\nUn courriel de confirmation sera adressé aux pré-inscrits pour confirmer leur participation aux séances de découverte. \nL'inscription des adhérents pour la saison 2022-2023 sera effective après paiement et transmission des documents requis (certificat médical\, photo) \n\n\n\n\nInscription TAC ARC adhérent\n\n\n\n\n\n\n\n\n    Nom d'usage\n        *\n    \n    \n    entrez votre nom d'usage (ex: nom d'épouse) requis FFTA\n    \n\n\n    Nom de naissance\n        *\n    \n    \n    entrez votre nom de naissance (ex: nom de jeune fille)\n    \n\n\n    Prénom\n        *\n    \n    \n    entrez votre prénom (requis FFTA)\n    \n\n\n    sexe\n        *\n    \n    		\n		fémininmasculin	\n	\n    (requis FFTA)\n    \n\n\n    Date de naissance\n        *\n    \n    \n    date de naissance JJ/MM/AAAA (requis FFTA)\n    \n\n\n    Nationalité\n        *\n    \n    \n    Votre pays de nationalité (France\,...)  (requis FFTA)\n    \n\n\n    Pays de naissance\n        *\n    \n    \n    Votre pays de naissance (France\,...)  (requis FFTA)\n    \n\n\n    Département de naissance\n        \n    \n    \n    Département de naissance (pour gestionnaire sportif)\n    \n\n\n    Ville de naissance\n        \n    \n    \n    Commune de naissance (pour gestionnaire sportif)\n    \n\n\n    Numéro de licence\n        \n    \n    \n    si vous avez déjà été licencié: numéro de licence FFTA\n\n    \n\n\n    Email\n        *\n    \n    \n    \n    \n\n\n    Adresse postale\n        *\n    \n    \n    Votre adresse postale incluant le code postal\, la commune\n    \n\n\n    Téléphone\n        \n    \n    \n    téléphone(s) fixe et/ou mobile \n    \n\n\n    Type de licence \n        *\n    \n    		\n		Adulte\, né avant le 01/01/2006Jeune\, né après le 31/12/2005déjà licencié UNSSdéjà licencié FFSUdéjà licencié FFSApart club - déjà licencié FFTA dans un autre club pour la saison 2026Jamais licencié FFTA - licence découverte après le 1er mars 2026	\n	\n    Choisissez votre type de licence ou indiquez votre appartenance à une fédération pour la saison en cours incluant la pratique du tir à l'arc; dans ce cas transmettez une copie de votre licence.\n    \n\n\n    Fédération\, licence en cours\n        \n    \n    \n    Uniquement si vous êtes déjà licencié pour la saison en cours\n    \n\n\n    Type d'arcs utilisés\n        \n    \n    					\n			 Arc classique CL\n					\n			 Arc à poulies CO\n					\n			 Arc nu - bare bow BB\n					\n			 Arc droit - long bow AD\n					\n			 Arc chasse AC\n\n    \n    \n\n\n    Pratique de tir\n        \n    \n    					\n			 je n'ai jamais tiré à l'arc\n					\n			 je n'ai jamais pratiqué de compétition\n					\n			 tir en salle\n					\n			 tir extérieur cible anglaise\n					\n			 parcours campagne\n					\n			 parcours 3D\n					\n			 parcours nature\n					\n			 Run archery\n\n    \n    \n\n\n    Pour un mineur\, liste des personnes susceptibles de venir le chercher\n        \n    \n    \n    Listes des parents et/ou tuteur.\nAjouter leurs adresses\, téléphones si différents de l'adhérent.\n    \n\n\n    commentaire\n        \n    \n    \n    \n    \n\n\n    Souhait de participation aux entraînements encadrés\n        \n    \n    					\n			 débutant jeune mardi 18h30 - COMPLET\n					\n			 débutant adulte jeudi 18h30 - COMPLET\n					\n			 progression jeune mardi\n					\n			 progression adulte mardi 20h00\n					\n			 archer autonome - entraînement libre\n\n    \n    \n\n\n    reCAPTCHA\n        \n    \n    \n    \n    \n\n\nTous les champs d'état civil\, incluant le nom de naissance\, le département de naissance\, la ville de naissance\, doivent être remplis pour les licenciés soumis au contrôle d'honorabilité: entraîneurs\, membres d'un comité directeur au sein d'un club ou d'instances fédérales FFTA.Le Ministère chargé des sports a conçu un service automatisé permettant aux fédérations sportives de s’assurer de l’honorabilité de leurs éducateurs sportifs bénévoles et leurs exploitants par vérification des antécédents judiciaires\, les plus graves. \n\n\n	\n\nEnvoyer\n\n\n\n	\n			\n			\n				Si vous êtes un humain\, ne remplissez pas ce champ.
URL:https://tacarc.org/info/event/accueil-initiation-septembre-2023/
LOCATION:Gymnase Gironis\, 35 rue de Gironis\, TOULOUSE\, 31400\, France
CATEGORIES:gymnase
END:VEVENT
END:VCALENDAR