
BEGIN:VCALENDAR
VERSION:2.0
PRODID:-//Toulouse TAC Arc - ECPv6.15.16//NONSGML v1.0//EN
CALSCALE:GREGORIAN
METHOD:PUBLISH
X-ORIGINAL-URL:https://tacarc.org/info
X-WR-CALDESC:Évènements pour Toulouse TAC Arc
REFRESH-INTERVAL;VALUE=DURATION:PT1H
X-Robots-Tag:noindex
X-PUBLISHED-TTL:PT1H
BEGIN:VTIMEZONE
TZID:Europe/Paris
BEGIN:DAYLIGHT
TZOFFSETFROM:+0100
TZOFFSETTO:+0200
TZNAME:CEST
DTSTART:20210328T010000
END:DAYLIGHT
BEGIN:STANDARD
TZOFFSETFROM:+0200
TZOFFSETTO:+0100
TZNAME:CET
DTSTART:20211031T010000
END:STANDARD
BEGIN:DAYLIGHT
TZOFFSETFROM:+0100
TZOFFSETTO:+0200
TZNAME:CEST
DTSTART:20220327T010000
END:DAYLIGHT
BEGIN:STANDARD
TZOFFSETFROM:+0200
TZOFFSETTO:+0100
TZNAME:CET
DTSTART:20221030T010000
END:STANDARD
BEGIN:DAYLIGHT
TZOFFSETFROM:+0100
TZOFFSETTO:+0200
TZNAME:CEST
DTSTART:20230326T010000
END:DAYLIGHT
BEGIN:STANDARD
TZOFFSETFROM:+0200
TZOFFSETTO:+0100
TZNAME:CET
DTSTART:20231029T010000
END:STANDARD
END:VTIMEZONE
BEGIN:VEVENT
DTSTART;TZID=Europe/Paris:20220911T080000
DTEND;TZID=Europe/Paris:20220911T170000
DTSTAMP:20260419T191447
CREATED:20220804T131114Z
LAST-MODIFIED:20220906T091416Z
UID:2921-1662883200-1662915600@tacarc.org
SUMMARY:Parcours campagne/3D à Toulouse 11-09-2022
DESCRIPTION:Les archers du Toulouse TAC et Compagnie des Archers Toulousains CAT organisent un \nconcours amical et découverte du tir de parcours de Toulouse/Etroits\n1 parcours campagne 12 cibles WA/FFTA\n1 parcours 3D standard 14 cibles IFAA/FFTL\n1 parcours Animal Round 14 cibles IFAA/FFTL \nterrain des Etroits\, 105 chemin des Etroits\, 31400 Toulouse\nGPS 43.559277\,1.4408283 \nOuvert aux licenciés FNSMR\, FFTL\, FFTA\, UFOLEP (autres fédérations: nous contacter) avec piquetage pour concours et découverte pour débutants. \nEngagement: 10€ pour adulte\, 8€ jeunes \nPaiement au greffe le jour du concours\n8h00: ouverture du greffe\n9h00: début des tirs\n12h30-13h30: pause repas;\nNB: pas de repas servi sur place par le club. Prenez votre pique-nique.\n17h00: fin des tir et remise des prix \n\n\n\n\nInscription parcours 10/09/2023\n\n\n\n\n\n\n\n\n    Nom\n        *\n    \n    \n    entrez votre nom\n    \n\n\n    Prénom\n        *\n    \n    \n    entrez votre prénom\n    \n\n\n    Club\, fédération\, licence\n        \n    \n    \n    votre licence d'archer doit être en cours de validité: indiquez le club d'adhésion\, le numéro de licence\n    \n\n\n    Email\n        *\n    \n    \n    \n    \n\n\n    Catégorie\n        \n    \n    		\n		Découverte (non classé - tir piquet blanc)BenjaminMinimeCadetJuniorSenior (21-50 ans)Vétéran (>50 ans)	\n	\n    \n    \n\n\n    Sexe\n        \n    \n    		\n		FemmeHomme	\n	\n    \n    \n\n\n    Catégorie \n        \n    \n    		\n		Arc Nu BB-RPoulie nu BB-C BH-CChasse BH-R TRArc droit LBArc libre FU FS-C FS-R BL BUCLassique	\n	\n    \n    \n\n\n    Message\n        *\n    \n    \n    \n    \n\n\n    reCAPTCHA\n        \n    \n    \n    \n    \n\n	\n			\n			\n				Si vous êtes un humain\, ne remplissez pas ce champ.			\n			\n		\n		\n\nEnvoyer\n\n\n\n\n\n\n\n\nPossibilité de camper sur place \nContact courriel cat.tac@tacarc.org \nLieu: 105 chemin des Etroits\, 31400 Toulouse\nGPS 43.559161\, 1.443136 \nLors de ce concours nous souhaitons faire découvrir des parcours ffta et fftl.\nA l'issue de l'épreuve\, les licenciés FFTL pourront valider leur carte de score en vu de l'EBHC.\n \nrèglement campagne WA/FFTA: https://arc-occitanie.fr/competitions/campagne/\nrèglement IFFA: https://www.ifaa-archery.org/\nhttps://www.ifaa-archery.org/index.php/documents/rules/archers-handbook-2019?download=145:archers-handbook
URL:https://tacarc.org/info/event/parcours-campagne-3d-toulouse-11-09-2022/
CATEGORIES:concours,parcours
END:VEVENT
END:VCALENDAR